BEGIN:VCALENDAR
VERSION:2.0
PRODID:-//Alliance Mount | M&amp;A Investment Advisory - ECPv6.15.20//NONSGML v1.0//EN
CALSCALE:GREGORIAN
METHOD:PUBLISH
X-WR-CALNAME:Alliance Mount | M&amp;A Investment Advisory
X-ORIGINAL-URL:https://alliancemount.com
X-WR-CALDESC:Events for Alliance Mount | M&amp;A Investment Advisory
REFRESH-INTERVAL;VALUE=DURATION:PT1H
X-Robots-Tag:noindex
X-PUBLISHED-TTL:PT1H
BEGIN:VTIMEZONE
TZID:Asia/Ho_Chi_Minh
BEGIN:STANDARD
TZOFFSETFROM:+0700
TZOFFSETTO:+0700
TZNAME:+07
DTSTART:20250101T000000
END:STANDARD
END:VTIMEZONE
BEGIN:VEVENT
DTSTART;VALUE=DATE:20260221
DTEND;VALUE=DATE:20260222
DTSTAMP:20260420T202631
CREATED:20260222T101738Z
LAST-MODIFIED:20260224T102313Z
UID:3253-1771632000-1771718399@alliancemount.com
SUMMARY:Webinar: Unlocking European Capital for Asia Pacific & Vietnamese SMEs
DESCRIPTION:THE STRATEGIC IMPERATIVE: INTEGRATING APAC & VIETNAMESE SMEs INTO EUROPEAN CAPITAL FLOWS \nFor Vietnamese and Asia-Pacific enterprises\, the strategic focus has shifted from stabilizing domestic operations to seeking international integration. However\, while the ambition to “Go Global” is clear\, accessing long-term\, high-quality capital remains a critical bottleneck. \nThe Barrier Traditional funding channels often lack the flexibility required for rapid expansion\, while international markets appear inaccessible due to regulatory complexities and structural barriers. \nThe Strategic Solution To address this\, Alliance Mount is pleased to announce our official strategic partnership with Dealsuite-Europe’s premier M&A platform connecting over 8\,000 verified investors. This collaboration serves as a direct\, professional conduit for Vietnamese SMEs to integrate into the European capital ecosystem. \nInvitation to Business Leaders We cordially invite Founders and C-Level Executives to the launch event: “Unlocking European Capital for Asia Pacific & Vietnamese SMEs” \nThis webinar will operationalize our partnership\, providing a clear roadmap for accessing European funds. \nEvent Details: \n\nTime: 19:00 – 21:00 (GMT+7) | Wednesday\, February 4\, 2026.\nFormat: Online Webinar via Zoom.\n\nNote: Access to this session is limited to ensure the quality of networking. \nRequest your invitation here: https://webinar.alliancemount.com
URL:https://alliancemount.com/event/webinar-unlocking-european-capital-for-asia-pacific-vietnamese-smes/
CATEGORIES:Events
ATTACH;FMTTYPE=image/png:https://alliancemount.com/wp-content/uploads/2026/02/Launching-Event-1536x866-1.png
END:VEVENT
END:VCALENDAR